BEGIN:VCALENDAR
VERSION:2.0
PRODID:-//OmniMagnetCalendar//EN
BEGIN:VEVENT
DTSTAMP:20190625T195740Z
STATUS:CONFIRMED
UID:kelloggfn.org441
DTSTART:20211130T153000Z
DTEND:20211201T180000Z
LOCATION:Virtual ,
SUMMARY:2021 CIO Leaders Alternative Investments Summit
DESCRIPTION:REGISTRATION OPEN | VIRTUAL Kellogg & Wharton Co-host 11th Annual GP/LP Summit  Open only to Alternative Investors
BEGIN:VALARM
TRIGGER:-PT15M
ACTION:DISPLAY
END:VALARM
TRANSP:OPAQUE
END:VEVENT
END:VCALENDAR
