BEGIN:VCALENDAR
VERSION:2.0
PRODID:-//OmniMagnetCalendar//EN
BEGIN:VEVENT
DTSTAMP:20190625T195740Z
STATUS:CONFIRMED
UID:kelloggfn.org446
DTSTART:20220310T230000Z
DTEND:20220311T010000Z
LOCATION:William Blair, 150 N. Riverside Plaza, Chicago,
SUMMARY:Inside Argonne National Lab's Fight Against COVID.
DESCRIPTION:With Stephan Streiffer, Deputy Director at Argonne and Professor Craig Garthwaite, Kellogg Healthcare Program DirectorIn Person in Chicago and VirtualBy Invitation
BEGIN:VALARM
TRIGGER:-PT15M
ACTION:DISPLAY
END:VALARM
TRANSP:OPAQUE
END:VEVENT
END:VCALENDAR
