BEGIN:VCALENDAR
VERSION:2.0
PRODID:-//OmniMagnetCalendar//EN
BEGIN:VEVENT
DTSTAMP:20190625T195740Z
STATUS:CONFIRMED
UID:kelloggfn.org458
DTSTART:20220506T000000Z
DTEND:20220506T023000Z
LOCATION:Piva Capital, 4 Embarcadero Center, Suite 3950, San Francisco, CA,
SUMMARY:An Insider's View of FinTech - Past and Present
DESCRIPTION:With Ken Hirsch ('93), Partner and Co-Chairman of Global Technology Media Telecom Investment Banking at Goldman Sachs and Mitchell Petersen, Kellogg Professor of FinancePiva Capital, 4 Embarcadero Place, San FranciscoBy Invitation
BEGIN:VALARM
TRIGGER:-PT15M
ACTION:DISPLAY
END:VALARM
TRANSP:OPAQUE
END:VEVENT
END:VCALENDAR
