BEGIN:VCALENDAR
VERSION:2.0
PRODID:-//OmniMagnetCalendar//EN
BEGIN:VEVENT
DTSTAMP:20190625T195740Z
STATUS:CONFIRMED
UID:kelloggfn.org460
DTSTART:20220920T220000Z
DTEND:20220921T000000Z
LOCATION:McKinsey & Company, Three World Trade Center, 175 Greenwich St., New York, NY , 10007,
SUMMARY:Web3: The Potential of Digital Assets and Their Underlying Technologies
DESCRIPTION:With Somesh Khanna ('88), Managing Director and Global Co-Lead of Banking and Security, McKinsey; and Ian De Bode, McKinsey's North American head of Web3 and Digital AssetsNew York CityAll Welcome
BEGIN:VALARM
TRIGGER:-PT15M
ACTION:DISPLAY
END:VALARM
TRANSP:OPAQUE
END:VEVENT
END:VCALENDAR
