BEGIN:VCALENDAR
VERSION:2.0
PRODID:-//OmniMagnetCalendar//EN
BEGIN:VEVENT
DTSTAMP:20190625T195740Z
STATUS:CONFIRMED
UID:kelloggfn.org479
DTSTART:20220614T220000Z
DTEND:20220615T000000Z
LOCATION:New York, New York,
SUMMARY:Focus on Private Equity
DESCRIPTION:With Jim Neary ('92), Managing Director and Co-Head of US Private Equity at Warburg Pincus and Mitchell Petersen, Kellogg Professor of FinanceWarburg Pincus, 450 Lexington Avenue, New York CityBy Invitation
BEGIN:VALARM
TRIGGER:-PT15M
ACTION:DISPLAY
END:VALARM
TRANSP:OPAQUE
END:VEVENT
END:VCALENDAR
